OziExplorer Map Data File Version 2.2
andhrapradeshnorth(5km).jpg
andhrapradeshnorth(5km).ozfx3
1 ,Map Code,
WGS 84,, 0.0000, 0.0000,WGS 84
Reserved 1
Reserved 2
Magnetic Variation,,,E
Map Projection,Mercator,PolyCal,No,AutoCalOnly,No,BSBUseWPX,No
Point01,xy, 0, 0,in, deg, 19, 52.20359027,N, 77, 16.66992187,E, grid, , , ,N
Point02,xy, 11584, 5664,in, deg, 16, 10.34836850,N, 85, 13.91601562,E, grid, , , ,N
Point03,xy, 0, 5664,in, deg, 16, 10.34836850,N, 77, 16.66992187,E, grid, , , ,N
Point04,xy, 11584, 0,in, deg, 19, 52.20359027,N, 85, 13.91601562,E, grid, , , ,N
Point05,xy, 5792, 2832,in, deg, 18, 1.85848499,N, 81, 15.29296875,E, grid, , , ,N
Point06,xy, 5792, 0,in, deg, 19, 52.20359027,N, 81, 15.29296875,E, grid, , , ,N
Point07,xy, 0, 2832,in, deg, 18, 1.85848499,N, 77, 16.66992187,E, grid, , , ,N
Point08,xy, 11584, 2832,in, deg, 18, 1.85848499,N, 85, 13.91601562,E, grid, , , ,N
Point09,xy, 5792, 5664,in, deg, 16, 10.34836850,N, 81, 15.29296875,E, grid, , , ,N
Point10,xy, , ,in, deg, , ,N, , ,W, grid, , , ,N
Point11,xy, , ,in, deg, , ,N, , ,W, grid, , , ,N
Point12,xy, , ,in, deg, , ,N, , ,W, grid, , , ,N
Point13,xy, , ,in, deg, , ,N, , ,W, grid, , , ,N
Point14,xy, , ,in, deg, , ,N, , ,W, grid, , , ,N
Point15,xy, , ,in, deg, , ,N, , ,W, grid, , , ,N
Point16,xy, , ,in, deg, , ,N, , ,W, grid, , , ,N
Point17,xy, , ,in, deg, , ,N, , ,W, grid, , , ,N
Point18,xy, , ,in, deg, , ,N, , ,W, grid, , , ,N
Point19,xy, , ,in, deg, , ,N, , ,W, grid, , , ,N
Point20,xy, , ,in, deg, , ,N, , ,W, grid, , , ,N
Point21,xy, , ,in, deg, , ,N, , ,W, grid, , , ,N
Point22,xy, , ,in, deg, , ,N, , ,W, grid, , , ,N
Point23,xy, , ,in, deg, , ,N, , ,W, grid, , , ,N
Point24,xy, , ,in, deg, , ,N, , ,W, grid, , , ,N
Point25,xy, , ,in, deg, , ,N, , ,W, grid, , , ,N
Point26,xy, , ,in, deg, , ,N, , ,W, grid, , , ,N
Point27,xy, , ,in, deg, , ,N, , ,W, grid, , , ,N
Point28,xy, , ,in, deg, , ,N, , ,W, grid, , , ,N
Point29,xy, , ,in, deg, , ,N, , ,W, grid, , , ,N
Point30,xy, , ,in, deg, , ,N, , ,W, grid, , , ,N
Projection Setup,,,,,,,,,,
Map Feature = MF ; Map Comment = MC These follow if they exist
Track File = TF These follow if they exist
Moving Map Parameters = MM? These follow if they exist
MM0,Yes
MMPNUM,4
MMPXY,1,0,0
MMPXY,2,11584,0
MMPXY,3,11584,5664
MMPXY,4,0,5664
MMPLL,1, 77.27783203, 19.87005983
MMPLL,2, 85.23193359, 19.87005983
MMPLL,3, 85.23193359, 16.17247280
MMPLL,4, 77.27783203, 16.17247280
MM1B,72.68315378
MOP,Map Open Position,0,0
IWH,Map Image Width/Height,11584,5664
