OziExplorer Map Data File Version 2.2
andhrapradeshsouh(5km).jpg
andhrapradeshsouh(5km).ozfx3
1 ,Map Code,
WGS 84,, 0.0000, 0.0000,WGS 84
Reserved 1
Reserved 2
Magnetic Variation,,,E
Map Projection,Mercator,PolyCal,No,AutoCalOnly,No,BSBUseWPX,No
Point01,xy, 0, 0,in, deg, 16, 29.32589605,N, 76, 34.48242187,E, grid, , , ,N
Point02,xy, 7808, 5792,in, deg, 12, 38.42029841,N, 81, 56.16210937,E, grid, , , ,N
Point03,xy, 0, 5792,in, deg, 12, 38.42029841,N, 76, 34.48242187,E, grid, , , ,N
Point04,xy, 7808, 0,in, deg, 16, 29.32589605,N, 81, 56.16210937,E, grid, , , ,N
Point05,xy, 3904, 2896,in, deg, 14, 34.37705010,N, 79, 15.32226562,E, grid, , , ,N
Point06,xy, 3904, 0,in, deg, 16, 29.32589605,N, 79, 15.32226562,E, grid, , , ,N
Point07,xy, 0, 2896,in, deg, 14, 34.37705010,N, 76, 34.48242187,E, grid, , , ,N
Point08,xy, 7808, 2896,in, deg, 14, 34.37705010,N, 81, 56.16210937,E, grid, , , ,N
Point09,xy, 3904, 5792,in, deg, 12, 38.42029841,N, 79, 15.32226562,E, grid, , , ,N
Point10,xy, , ,in, deg, , ,N, , ,W, grid, , , ,N
Point11,xy, , ,in, deg, , ,N, , ,W, grid, , , ,N
Point12,xy, , ,in, deg, , ,N, , ,W, grid, , , ,N
Point13,xy, , ,in, deg, , ,N, , ,W, grid, , , ,N
Point14,xy, , ,in, deg, , ,N, , ,W, grid, , , ,N
Point15,xy, , ,in, deg, , ,N, , ,W, grid, , , ,N
Point16,xy, , ,in, deg, , ,N, , ,W, grid, , , ,N
Point17,xy, , ,in, deg, , ,N, , ,W, grid, , , ,N
Point18,xy, , ,in, deg, , ,N, , ,W, grid, , , ,N
Point19,xy, , ,in, deg, , ,N, , ,W, grid, , , ,N
Point20,xy, , ,in, deg, , ,N, , ,W, grid, , , ,N
Point21,xy, , ,in, deg, , ,N, , ,W, grid, , , ,N
Point22,xy, , ,in, deg, , ,N, , ,W, grid, , , ,N
Point23,xy, , ,in, deg, , ,N, , ,W, grid, , , ,N
Point24,xy, , ,in, deg, , ,N, , ,W, grid, , , ,N
Point25,xy, , ,in, deg, , ,N, , ,W, grid, , , ,N
Point26,xy, , ,in, deg, , ,N, , ,W, grid, , , ,N
Point27,xy, , ,in, deg, , ,N, , ,W, grid, , , ,N
Point28,xy, , ,in, deg, , ,N, , ,W, grid, , , ,N
Point29,xy, , ,in, deg, , ,N, , ,W, grid, , , ,N
Point30,xy, , ,in, deg, , ,N, , ,W, grid, , , ,N
Projection Setup,,,,,,,,,,
Map Feature = MF ; Map Comment = MC These follow if they exist
Track File = TF These follow if they exist
Moving Map Parameters = MM? These follow if they exist
MM0,Yes
MMPNUM,4
MMPXY,1,0,0
MMPXY,2,7808,0
MMPXY,3,7808,5792
MMPXY,4,0,5792
MMPLL,1, 76.57470703, 16.48876493
MMPLL,2, 81.93603515, 16.48876493
MMPLL,3, 81.93603515, 12.64033830
MMPLL,4, 76.57470703, 12.64033830
MM1B,73.97790108
MOP,Map Open Position,0,0
IWH,Map Image Width/Height,7808,5792
