OziExplorer Map Data File Version 2.2
delhi(500m).jpg
delhi(500m).ozfx3
1 ,Map Code,
WGS 84,, 0.0000, 0.0000,WGS 84
Reserved 1
Reserved 2
Magnetic Variation,,,E
Map Projection,Mercator,PolyCal,No,AutoCalOnly,No,BSBUseWPX,No
Point01,xy, 0, 0,in, deg, 28, 48.15380327,N, 76, 55.82336425,E, grid, , , ,N
Point02,xy, 6832, 4232,in, deg, 28, 29.02683533,N, 77, 31.00708007,E, grid, , , ,N
Point03,xy, 0, 4232,in, deg, 28, 29.02683533,N, 76, 55.82336425,E, grid, , , ,N
Point04,xy, 6832, 0,in, deg, 28, 48.15380327,N, 77, 31.00708007,E, grid, , , ,N
Point05,xy, 3416, 2116,in, deg, 28, 38.59758501,N, 77, 13.41522216,E, grid, , , ,N
Point06,xy, 3416, 0,in, deg, 28, 48.15380327,N, 77, 13.41522216,E, grid, , , ,N
Point07,xy, 0, 2116,in, deg, 28, 38.59758501,N, 76, 55.82336425,E, grid, , , ,N
Point08,xy, 6832, 2116,in, deg, 28, 38.59758501,N, 77, 31.00708007,E, grid, , , ,N
Point09,xy, 3416, 4232,in, deg, 28, 29.02683533,N, 77, 13.41522216,E, grid, , , ,N
Point10,xy, , ,in, deg, , ,N, , ,W, grid, , , ,N
Point11,xy, , ,in, deg, , ,N, , ,W, grid, , , ,N
Point12,xy, , ,in, deg, , ,N, , ,W, grid, , , ,N
Point13,xy, , ,in, deg, , ,N, , ,W, grid, , , ,N
Point14,xy, , ,in, deg, , ,N, , ,W, grid, , , ,N
Point15,xy, , ,in, deg, , ,N, , ,W, grid, , , ,N
Point16,xy, , ,in, deg, , ,N, , ,W, grid, , , ,N
Point17,xy, , ,in, deg, , ,N, , ,W, grid, , , ,N
Point18,xy, , ,in, deg, , ,N, , ,W, grid, , , ,N
Point19,xy, , ,in, deg, , ,N, , ,W, grid, , , ,N
Point20,xy, , ,in, deg, , ,N, , ,W, grid, , , ,N
Point21,xy, , ,in, deg, , ,N, , ,W, grid, , , ,N
Point22,xy, , ,in, deg, , ,N, , ,W, grid, , , ,N
Point23,xy, , ,in, deg, , ,N, , ,W, grid, , , ,N
Point24,xy, , ,in, deg, , ,N, , ,W, grid, , , ,N
Point25,xy, , ,in, deg, , ,N, , ,W, grid, , , ,N
Point26,xy, , ,in, deg, , ,N, , ,W, grid, , , ,N
Point27,xy, , ,in, deg, , ,N, , ,W, grid, , , ,N
Point28,xy, , ,in, deg, , ,N, , ,W, grid, , , ,N
Point29,xy, , ,in, deg, , ,N, , ,W, grid, , , ,N
Point30,xy, , ,in, deg, , ,N, , ,W, grid, , , ,N
Projection Setup,,,,,,,,,,
Map Feature = MF ; Map Comment = MC These follow if they exist
Track File = TF These follow if they exist
Moving Map Parameters = MM? These follow if they exist
MM0,Yes
MMPNUM,4
MMPXY,1,0,0
MMPXY,2,6832,0
MMPXY,3,6832,4232
MMPXY,4,0,4232
MMPLL,1, 76.93038940, 28.80256338
MMPLL,2, 77.51678466, 28.80256338
MMPLL,3, 77.51678466, 28.48378058
MMPLL,4, 76.93038940, 28.48378058
MM1B,8.38534286
MOP,Map Open Position,0,0
IWH,Map Image Width/Height,6832,4232
