OziExplorer Map Data File Version 2.2
delhicenter(125m).jpg
delhicenter(125m).ozfx3
1 ,Map Code,
WGS 84,, 0.0000, 0.0000,WGS 84
Reserved 1
Reserved 2
Magnetic Variation,,,E
Map Projection,Mercator,PolyCal,No,AutoCalOnly,No,BSBUseWPX,No
Point01,xy, 0, 0,in, deg, 28, 41.83279281,N, 77, 7.35900878,E, grid, , , ,N
Point02,xy, 9504, 7072,in, deg, 28, 33.84116153,N, 77, 19.59503173,E, grid, , , ,N
Point03,xy, 0, 7072,in, deg, 28, 33.84116153,N, 77, 7.35900878,E, grid, , , ,N
Point04,xy, 9504, 0,in, deg, 28, 41.83279281,N, 77, 19.59503173,E, grid, , , ,N
Point05,xy, 4752, 3536,in, deg, 28, 37.83824490,N, 77, 13.47702026,E, grid, , , ,N
Point06,xy, 4752, 0,in, deg, 28, 41.83279281,N, 77, 13.47702026,E, grid, , , ,N
Point07,xy, 0, 3536,in, deg, 28, 37.83824490,N, 77, 7.35900878,E, grid, , , ,N
Point08,xy, 9504, 3536,in, deg, 28, 37.83824490,N, 77, 19.59503173,E, grid, , , ,N
Point09,xy, 4752, 7072,in, deg, 28, 33.84116153,N, 77, 13.47702026,E, grid, , , ,N
Point10,xy, , ,in, deg, , ,N, , ,W, grid, , , ,N
Point11,xy, , ,in, deg, , ,N, , ,W, grid, , , ,N
Point12,xy, , ,in, deg, , ,N, , ,W, grid, , , ,N
Point13,xy, , ,in, deg, , ,N, , ,W, grid, , , ,N
Point14,xy, , ,in, deg, , ,N, , ,W, grid, , , ,N
Point15,xy, , ,in, deg, , ,N, , ,W, grid, , , ,N
Point16,xy, , ,in, deg, , ,N, , ,W, grid, , , ,N
Point17,xy, , ,in, deg, , ,N, , ,W, grid, , , ,N
Point18,xy, , ,in, deg, , ,N, , ,W, grid, , , ,N
Point19,xy, , ,in, deg, , ,N, , ,W, grid, , , ,N
Point20,xy, , ,in, deg, , ,N, , ,W, grid, , , ,N
Point21,xy, , ,in, deg, , ,N, , ,W, grid, , , ,N
Point22,xy, , ,in, deg, , ,N, , ,W, grid, , , ,N
Point23,xy, , ,in, deg, , ,N, , ,W, grid, , , ,N
Point24,xy, , ,in, deg, , ,N, , ,W, grid, , , ,N
Point25,xy, , ,in, deg, , ,N, , ,W, grid, , , ,N
Point26,xy, , ,in, deg, , ,N, , ,W, grid, , , ,N
Point27,xy, , ,in, deg, , ,N, , ,W, grid, , , ,N
Point28,xy, , ,in, deg, , ,N, , ,W, grid, , , ,N
Point29,xy, , ,in, deg, , ,N, , ,W, grid, , , ,N
Point30,xy, , ,in, deg, , ,N, , ,W, grid, , , ,N
Projection Setup,,,,,,,,,,
Map Feature = MF ; Map Comment = MC These follow if they exist
Track File = TF These follow if they exist
Moving Map Parameters = MM? These follow if they exist
MM0,Yes
MMPNUM,4
MMPXY,1,0,0
MMPXY,2,9504,0
MMPXY,3,9504,7072
MMPXY,4,0,7072
MMPLL,1, 77.12265014, 28.69721321
MMPLL,2, 77.32658386, 28.69721321
MMPLL,3, 77.32658386, 28.56401935
MMPLL,4, 77.12265014, 28.56401935
MM1B,2.09658857
MOP,Map Open Position,0,0
IWH,Map Image Width/Height,9504,7072
