OziExplorer Map Data File Version 2.2
eastindia(5km).bmp
eastindia(5km).ozfx3
1 ,Map Code,
WGS 84,, 0.0000, 0.0000,WGS 84
Reserved 1
Reserved 2
Magnetic Variation,,,E
Map Projection,Mercator,PolyCal,No,AutoCalOnly,No,BSBUseWPX,No
Point01,xy, 0, 0,in, deg, 29, 36.70020691,N, 87, 49.48242187,E, grid, , , ,N
Point02,xy, 14080, 14528,in, deg, 20, 35.49912724,N, 97, 29.56054687,E, grid, , , ,N
Point03,xy, 0, 14528,in, deg, 20, 35.49912724,N, 87, 49.48242187,E, grid, , , ,N
Point04,xy, 14080, 0,in, deg, 29, 36.70020691,N, 97, 29.56054687,E, grid, , , ,N
Point05,xy, 7040, 7264,in, deg, 25, 11.10353301,N, 92, 39.52148437,E, grid, , , ,N
Point06,xy, 7040, 0,in, deg, 29, 36.70020691,N, 92, 39.52148437,E, grid, , , ,N
Point07,xy, 0, 7264,in, deg, 25, 11.10353301,N, 87, 49.48242187,E, grid, , , ,N
Point08,xy, 14080, 7264,in, deg, 25, 11.10353301,N, 97, 29.56054687,E, grid, , , ,N
Point09,xy, 7040, 14528,in, deg, 20, 35.49912724,N, 92, 39.52148437,E, grid, , , ,N
Point10,xy, , ,in, deg, , ,N, , ,W, grid, , , ,N
Point11,xy, , ,in, deg, , ,N, , ,W, grid, , , ,N
Point12,xy, , ,in, deg, , ,N, , ,W, grid, , , ,N
Point13,xy, , ,in, deg, , ,N, , ,W, grid, , , ,N
Point14,xy, , ,in, deg, , ,N, , ,W, grid, , , ,N
Point15,xy, , ,in, deg, , ,N, , ,W, grid, , , ,N
Point16,xy, , ,in, deg, , ,N, , ,W, grid, , , ,N
Point17,xy, , ,in, deg, , ,N, , ,W, grid, , , ,N
Point18,xy, , ,in, deg, , ,N, , ,W, grid, , , ,N
Point19,xy, , ,in, deg, , ,N, , ,W, grid, , , ,N
Point20,xy, , ,in, deg, , ,N, , ,W, grid, , , ,N
Point21,xy, , ,in, deg, , ,N, , ,W, grid, , , ,N
Point22,xy, , ,in, deg, , ,N, , ,W, grid, , , ,N
Point23,xy, , ,in, deg, , ,N, , ,W, grid, , , ,N
Point24,xy, , ,in, deg, , ,N, , ,W, grid, , , ,N
Point25,xy, , ,in, deg, , ,N, , ,W, grid, , , ,N
Point26,xy, , ,in, deg, , ,N, , ,W, grid, , , ,N
Point27,xy, , ,in, deg, , ,N, , ,W, grid, , , ,N
Point28,xy, , ,in, deg, , ,N, , ,W, grid, , , ,N
Point29,xy, , ,in, deg, , ,N, , ,W, grid, , , ,N
Point30,xy, , ,in, deg, , ,N, , ,W, grid, , , ,N
Projection Setup,,,,,,,,,,
Map Feature = MF ; Map Comment = MC These follow if they exist
Track File = TF These follow if they exist
Moving Map Parameters = MM? These follow if they exist
MM0,Yes
MMPNUM,4
MMPXY,1,0,0
MMPXY,2,14080,0
MMPXY,3,14080,14528
MMPXY,4,0,14528
MMPLL,1, 87.82470703, 29.61167011
MMPLL,2, 97.49267578, 29.61167011
MMPLL,3, 97.49267578, 20.59165212
MMPLL,4, 87.82470703, 20.59165212
MM1B,69.17077554
MOP,Map Open Position,0,0
IWH,Map Image Width/Height,14080,14528
