OziExplorer Map Data File Version 2.2
haryana(5km).jpg
haryana(5km).ozfx3
1 ,Map Code,
WGS 84,, 0.0000, 0.0000,WGS 84
Reserved 1
Reserved 2
Magnetic Variation,,,E
Map Projection,Mercator,PolyCal,No,AutoCalOnly,No,BSBUseWPX,No
Point01,xy, 0, 0,in, deg, 30, 54.13348231,N, 74, 21.98730468,E, grid, , , ,N
Point02,xy, 4928, 5552,in, deg, 27, 34.58760457,N, 77, 45.01464843,E, grid, , , ,N
Point03,xy, 0, 5552,in, deg, 27, 34.58760457,N, 74, 21.98730468,E, grid, , , ,N
Point04,xy, 4928, 0,in, deg, 30, 54.13348231,N, 77, 45.01464843,E, grid, , , ,N
Point05,xy, 2464, 2776,in, deg, 29, 15.17135915,N, 76, 3.50097656,E, grid, , , ,N
Point06,xy, 2464, 0,in, deg, 30, 54.13348231,N, 76, 3.50097656,E, grid, , , ,N
Point07,xy, 0, 2776,in, deg, 29, 15.17135915,N, 74, 21.98730468,E, grid, , , ,N
Point08,xy, 4928, 2776,in, deg, 29, 15.17135915,N, 77, 45.01464843,E, grid, , , ,N
Point09,xy, 2464, 5552,in, deg, 27, 34.58760457,N, 76, 3.50097656,E, grid, , , ,N
Point10,xy, , ,in, deg, , ,N, , ,W, grid, , , ,N
Point11,xy, , ,in, deg, , ,N, , ,W, grid, , , ,N
Point12,xy, , ,in, deg, , ,N, , ,W, grid, , , ,N
Point13,xy, , ,in, deg, , ,N, , ,W, grid, , , ,N
Point14,xy, , ,in, deg, , ,N, , ,W, grid, , , ,N
Point15,xy, , ,in, deg, , ,N, , ,W, grid, , , ,N
Point16,xy, , ,in, deg, , ,N, , ,W, grid, , , ,N
Point17,xy, , ,in, deg, , ,N, , ,W, grid, , , ,N
Point18,xy, , ,in, deg, , ,N, , ,W, grid, , , ,N
Point19,xy, , ,in, deg, , ,N, , ,W, grid, , , ,N
Point20,xy, , ,in, deg, , ,N, , ,W, grid, , , ,N
Point21,xy, , ,in, deg, , ,N, , ,W, grid, , , ,N
Point22,xy, , ,in, deg, , ,N, , ,W, grid, , , ,N
Point23,xy, , ,in, deg, , ,N, , ,W, grid, , , ,N
Point24,xy, , ,in, deg, , ,N, , ,W, grid, , , ,N
Point25,xy, , ,in, deg, , ,N, , ,W, grid, , , ,N
Point26,xy, , ,in, deg, , ,N, , ,W, grid, , , ,N
Point27,xy, , ,in, deg, , ,N, , ,W, grid, , , ,N
Point28,xy, , ,in, deg, , ,N, , ,W, grid, , , ,N
Point29,xy, , ,in, deg, , ,N, , ,W, grid, , , ,N
Point30,xy, , ,in, deg, , ,N, , ,W, grid, , , ,N
Projection Setup,,,,,,,,,,
Map Feature = MF ; Map Comment = MC These follow if they exist
Track File = TF These follow if they exist
Moving Map Parameters = MM? These follow if they exist
MM0,Yes
MMPNUM,4
MMPXY,1,0,0
MMPXY,2,4928,0
MMPXY,3,4928,5552
MMPXY,4,0,5552
MMPLL,1, 74.36645507, 30.90222470
MMPLL,2, 77.75024414, 30.90222470
MMPLL,3, 77.75024414, 27.57646007
MMPLL,4, 74.36645507, 27.57646007
MM1B,66.68914018
MOP,Map Open Position,0,0
IWH,Map Image Width/Height,4928,5552
