OziExplorer Map Data File Version 2.2
himachal(5km).jpg
himachal(5km).ozfx3
1 ,Map Code,
WGS 84,, 0.0000, 0.0000,WGS 84
Reserved 1
Reserved 2
Magnetic Variation,,,E
Map Projection,Mercator,PolyCal,No,AutoCalOnly,No,BSBUseWPX,No
Point01,xy, 0, 0,in, deg, 33, 17.62821350,N, 75, 29.22363281,E, grid, , , ,N
Point02,xy, 4992, 5184,in, deg, 30, 16.11337494,N, 78, 54.88769531,E, grid, , , ,N
Point03,xy, 0, 5184,in, deg, 30, 16.11337494,N, 75, 29.22363281,E, grid, , , ,N
Point04,xy, 4992, 0,in, deg, 33, 17.62821350,N, 78, 54.88769531,E, grid, , , ,N
Point05,xy, 2496, 2592,in, deg, 31, 47.61331243,N, 77, 12.05566406,E, grid, , , ,N
Point06,xy, 2496, 0,in, deg, 33, 17.62821350,N, 77, 12.05566406,E, grid, , , ,N
Point07,xy, 0, 2592,in, deg, 31, 47.61331243,N, 75, 29.22363281,E, grid, , , ,N
Point08,xy, 4992, 2592,in, deg, 31, 47.61331243,N, 78, 54.88769531,E, grid, , , ,N
Point09,xy, 2496, 5184,in, deg, 30, 16.11337494,N, 77, 12.05566406,E, grid, , , ,N
Point10,xy, , ,in, deg, , ,N, , ,W, grid, , , ,N
Point11,xy, , ,in, deg, , ,N, , ,W, grid, , , ,N
Point12,xy, , ,in, deg, , ,N, , ,W, grid, , , ,N
Point13,xy, , ,in, deg, , ,N, , ,W, grid, , , ,N
Point14,xy, , ,in, deg, , ,N, , ,W, grid, , , ,N
Point15,xy, , ,in, deg, , ,N, , ,W, grid, , , ,N
Point16,xy, , ,in, deg, , ,N, , ,W, grid, , , ,N
Point17,xy, , ,in, deg, , ,N, , ,W, grid, , , ,N
Point18,xy, , ,in, deg, , ,N, , ,W, grid, , , ,N
Point19,xy, , ,in, deg, , ,N, , ,W, grid, , , ,N
Point20,xy, , ,in, deg, , ,N, , ,W, grid, , , ,N
Point21,xy, , ,in, deg, , ,N, , ,W, grid, , , ,N
Point22,xy, , ,in, deg, , ,N, , ,W, grid, , , ,N
Point23,xy, , ,in, deg, , ,N, , ,W, grid, , , ,N
Point24,xy, , ,in, deg, , ,N, , ,W, grid, , , ,N
Point25,xy, , ,in, deg, , ,N, , ,W, grid, , , ,N
Point26,xy, , ,in, deg, , ,N, , ,W, grid, , , ,N
Point27,xy, , ,in, deg, , ,N, , ,W, grid, , , ,N
Point28,xy, , ,in, deg, , ,N, , ,W, grid, , , ,N
Point29,xy, , ,in, deg, , ,N, , ,W, grid, , , ,N
Point30,xy, , ,in, deg, , ,N, , ,W, grid, , , ,N
Projection Setup,,,,,,,,,,
Map Feature = MF ; Map Comment = MC These follow if they exist
Track File = TF These follow if they exist
Moving Map Parameters = MM? These follow if they exist
MM0,Yes
MMPNUM,4
MMPXY,1,0,0
MMPXY,2,4992,0
MMPXY,3,4992,5184
MMPXY,4,0,5184
MMPLL,1, 75.48706054, 33.29380355
MMPLL,2, 78.91479492, 33.29380355
MMPLL,3, 78.91479492, 30.26855624
MMPLL,4, 75.48706054, 30.26855624
MM1B,64.96780209
MOP,Map Open Position,0,0
IWH,Map Image Width/Height,4992,5184
