OziExplorer Map Data File Version 2.2
india(50km).jpg
india(50km).ozfx3
1 ,Map Code,
WGS 84,, 0.0000, 0.0000,WGS 84
Reserved 1
Reserved 2
Magnetic Variation,,,E
Map Projection,Mercator,PolyCal,No,AutoCalOnly,No,BSBUseWPX,No
Point01,xy, 0, 0,in, deg, 37, 1.20589208,N, 68, 14.82421875,E, grid, , , ,N
Point02,xy, 5328, 6208,in, deg, 5, 47.45380877,N, 97, 30.87890625,E, grid, , , ,N
Point03,xy, 0, 6208,in, deg, 5, 47.45380877,N, 68, 14.82421875,E, grid, , , ,N
Point04,xy, 5328, 0,in, deg, 37, 1.20589208,N, 97, 30.87890625,E, grid, , , ,N
Point05,xy, 2664, 3104,in, deg, 22, 16.12584234,N, 82, 52.8515625,E, grid, , , ,N
Point06,xy, 2664, 0,in, deg, 37, 1.20589208,N, 82, 52.8515625,E, grid, , , ,N
Point07,xy, 0, 3104,in, deg, 22, 16.12584234,N, 68, 14.82421875,E, grid, , , ,N
Point08,xy, 5328, 3104,in, deg, 22, 16.12584234,N, 97, 30.87890625,E, grid, , , ,N
Point09,xy, 2664, 6208,in, deg, 5, 47.45380877,N, 82, 52.8515625,E, grid, , , ,N
Point10,xy, , ,in, deg, , ,N, , ,W, grid, , , ,N
Point11,xy, , ,in, deg, , ,N, , ,W, grid, , , ,N
Point12,xy, , ,in, deg, , ,N, , ,W, grid, , , ,N
Point13,xy, , ,in, deg, , ,N, , ,W, grid, , , ,N
Point14,xy, , ,in, deg, , ,N, , ,W, grid, , , ,N
Point15,xy, , ,in, deg, , ,N, , ,W, grid, , , ,N
Point16,xy, , ,in, deg, , ,N, , ,W, grid, , , ,N
Point17,xy, , ,in, deg, , ,N, , ,W, grid, , , ,N
Point18,xy, , ,in, deg, , ,N, , ,W, grid, , , ,N
Point19,xy, , ,in, deg, , ,N, , ,W, grid, , , ,N
Point20,xy, , ,in, deg, , ,N, , ,W, grid, , , ,N
Point21,xy, , ,in, deg, , ,N, , ,W, grid, , , ,N
Point22,xy, , ,in, deg, , ,N, , ,W, grid, , , ,N
Point23,xy, , ,in, deg, , ,N, , ,W, grid, , , ,N
Point24,xy, , ,in, deg, , ,N, , ,W, grid, , , ,N
Point25,xy, , ,in, deg, , ,N, , ,W, grid, , , ,N
Point26,xy, , ,in, deg, , ,N, , ,W, grid, , , ,N
Point27,xy, , ,in, deg, , ,N, , ,W, grid, , , ,N
Point28,xy, , ,in, deg, , ,N, , ,W, grid, , , ,N
Point29,xy, , ,in, deg, , ,N, , ,W, grid, , , ,N
Point30,xy, , ,in, deg, , ,N, , ,W, grid, , , ,N
Projection Setup,,,,,,,,,,
Map Feature = MF ; Map Comment = MC These follow if they exist
Track File = TF These follow if they exist
Moving Map Parameters = MM? These follow if they exist
MM0,Yes
MMPNUM,4
MMPXY,1,0,0
MMPXY,2,5328,0
MMPXY,3,5328,6208
MMPXY,4,0,6208
MMPLL,1, 68.24707031, 37.02009820
MMPLL,2, 97.51464843, 37.02009820
MMPLL,3, 97.51464843, 5.79089681
MMPLL,4, 68.24707031, 5.79089681
MM1B,565.88866638
MOP,Map Open Position,0,0
IWH,Map Image Width/Height,5328,6208
