OziExplorer Map Data File Version 2.2
jammukashmir(5km).jpg
jammukashmir(5km).ozfx3
1 ,Map Code,
WGS 84,, 0.0000, 0.0000,WGS 84
Reserved 1
Reserved 2
Magnetic Variation,,,E
Map Projection,Mercator,PolyCal,No,AutoCalOnly,No,BSBUseWPX,No
Point01,xy, 0, 0,in, deg, 35, 3.95838827,N, 73, 43.09570312,E, grid, , , ,N
Point02,xy, 8672, 4800,in, deg, 32, 19.45653533,N, 79, 40.37109375,E, grid, , , ,N
Point03,xy, 0, 4800,in, deg, 32, 19.45653533,N, 73, 43.09570312,E, grid, , , ,N
Point04,xy, 8672, 0,in, deg, 35, 3.95838827,N, 79, 40.37109375,E, grid, , , ,N
Point05,xy, 4336, 2400,in, deg, 33, 42.36375930,N, 76, 41.73339843,E, grid, , , ,N
Point06,xy, 4336, 0,in, deg, 35, 3.95838827,N, 76, 41.73339843,E, grid, , , ,N
Point07,xy, 0, 2400,in, deg, 33, 42.36375930,N, 73, 43.09570312,E, grid, , , ,N
Point08,xy, 8672, 2400,in, deg, 33, 42.36375930,N, 79, 40.37109375,E, grid, , , ,N
Point09,xy, 4336, 4800,in, deg, 32, 19.45653533,N, 76, 41.73339843,E, grid, , , ,N
Point10,xy, , ,in, deg, , ,N, , ,W, grid, , , ,N
Point11,xy, , ,in, deg, , ,N, , ,W, grid, , , ,N
Point12,xy, , ,in, deg, , ,N, , ,W, grid, , , ,N
Point13,xy, , ,in, deg, , ,N, , ,W, grid, , , ,N
Point14,xy, , ,in, deg, , ,N, , ,W, grid, , , ,N
Point15,xy, , ,in, deg, , ,N, , ,W, grid, , , ,N
Point16,xy, , ,in, deg, , ,N, , ,W, grid, , , ,N
Point17,xy, , ,in, deg, , ,N, , ,W, grid, , , ,N
Point18,xy, , ,in, deg, , ,N, , ,W, grid, , , ,N
Point19,xy, , ,in, deg, , ,N, , ,W, grid, , , ,N
Point20,xy, , ,in, deg, , ,N, , ,W, grid, , , ,N
Point21,xy, , ,in, deg, , ,N, , ,W, grid, , , ,N
Point22,xy, , ,in, deg, , ,N, , ,W, grid, , , ,N
Point23,xy, , ,in, deg, , ,N, , ,W, grid, , , ,N
Point24,xy, , ,in, deg, , ,N, , ,W, grid, , , ,N
Point25,xy, , ,in, deg, , ,N, , ,W, grid, , , ,N
Point26,xy, , ,in, deg, , ,N, , ,W, grid, , , ,N
Point27,xy, , ,in, deg, , ,N, , ,W, grid, , , ,N
Point28,xy, , ,in, deg, , ,N, , ,W, grid, , , ,N
Point29,xy, , ,in, deg, , ,N, , ,W, grid, , , ,N
Point30,xy, , ,in, deg, , ,N, , ,W, grid, , , ,N
Projection Setup,,,,,,,,,,
Map Feature = MF ; Map Comment = MC These follow if they exist
Track File = TF These follow if they exist
Moving Map Parameters = MM? These follow if they exist
MM0,Yes
MMPNUM,4
MMPXY,1,0,0
MMPXY,2,8672,0
MMPXY,3,8672,4800
MMPXY,4,0,4800
MMPLL,1, 73.71826171, 35.06597313
MMPLL,2, 79.67285156, 35.06597313
MMPLL,3, 79.67285156, 32.32427558
MMPLL,4, 73.71826171, 32.32427558
MM1B,63.58761279
MOP,Map Open Position,0,0
IWH,Map Image Width/Height,8672,4800
