OziExplorer Map Data File Version 2.2
karnatakanorth(5km).jpg
karnatakanorth(5km).ozfx3
1 ,Map Code,
WGS 84,, 0.0000, 0.0000,WGS 84
Reserved 1
Reserved 2
Magnetic Variation,,,E
Map Projection,Mercator,PolyCal,No,AutoCalOnly,No,BSBUseWPX,No
Point01,xy, 0, 0,in, deg, 18, 23.77380828,N, 74, 1.55273437,E, grid, , , ,N
Point02,xy, 5376, 5888,in, deg, 14, 31.18680277,N, 77, 43.03710937,E, grid, , , ,N
Point03,xy, 0, 5888,in, deg, 14, 31.18680277,N, 74, 1.55273437,E, grid, , , ,N
Point04,xy, 5376, 0,in, deg, 18, 23.77380828,N, 77, 43.03710937,E, grid, , , ,N
Point05,xy, 2688, 2944,in, deg, 16, 28.06168489,N, 75, 52.29492187,E, grid, , , ,N
Point06,xy, 2688, 0,in, deg, 18, 23.77380828,N, 75, 52.29492187,E, grid, , , ,N
Point07,xy, 0, 2944,in, deg, 16, 28.06168489,N, 74, 1.55273437,E, grid, , , ,N
Point08,xy, 5376, 2944,in, deg, 16, 28.06168489,N, 77, 43.03710937,E, grid, , , ,N
Point09,xy, 2688, 5888,in, deg, 14, 31.18680277,N, 75, 52.29492187,E, grid, , , ,N
Point10,xy, , ,in, deg, , ,N, , ,W, grid, , , ,N
Point11,xy, , ,in, deg, , ,N, , ,W, grid, , , ,N
Point12,xy, , ,in, deg, , ,N, , ,W, grid, , , ,N
Point13,xy, , ,in, deg, , ,N, , ,W, grid, , , ,N
Point14,xy, , ,in, deg, , ,N, , ,W, grid, , , ,N
Point15,xy, , ,in, deg, , ,N, , ,W, grid, , , ,N
Point16,xy, , ,in, deg, , ,N, , ,W, grid, , , ,N
Point17,xy, , ,in, deg, , ,N, , ,W, grid, , , ,N
Point18,xy, , ,in, deg, , ,N, , ,W, grid, , , ,N
Point19,xy, , ,in, deg, , ,N, , ,W, grid, , , ,N
Point20,xy, , ,in, deg, , ,N, , ,W, grid, , , ,N
Point21,xy, , ,in, deg, , ,N, , ,W, grid, , , ,N
Point22,xy, , ,in, deg, , ,N, , ,W, grid, , , ,N
Point23,xy, , ,in, deg, , ,N, , ,W, grid, , , ,N
Point24,xy, , ,in, deg, , ,N, , ,W, grid, , , ,N
Point25,xy, , ,in, deg, , ,N, , ,W, grid, , , ,N
Point26,xy, , ,in, deg, , ,N, , ,W, grid, , , ,N
Point27,xy, , ,in, deg, , ,N, , ,W, grid, , , ,N
Point28,xy, , ,in, deg, , ,N, , ,W, grid, , , ,N
Point29,xy, , ,in, deg, , ,N, , ,W, grid, , , ,N
Point30,xy, , ,in, deg, , ,N, , ,W, grid, , , ,N
Projection Setup,,,,,,,,,,
Map Feature = MF ; Map Comment = MC These follow if they exist
Track File = TF These follow if they exist
Moving Map Parameters = MM? These follow if they exist
MM0,Yes
MMPNUM,4
MMPXY,1,0,0
MMPXY,2,5376,0
MMPXY,3,5376,5888
MMPXY,4,0,5888
MMPLL,1, 74.02587890, 18.39623013
MMPLL,2, 77.71728515, 18.39623013
MMPLL,3, 77.71728515, 14.51978004
MMPLL,4, 74.02587890, 14.51978004
MM1B,73.30155995
MOP,Map Open Position,0,0
IWH,Map Image Width/Height,5376,5888
