OziExplorer Map Data File Version 2.2
karnatakasouth(5km).jpg
karnatakasouth(5km).ozfx3
1 ,Map Code,
WGS 84,, 0.0000, 0.0000,WGS 84
Reserved 1
Reserved 2
Magnetic Variation,,,E
Map Projection,Mercator,PolyCal,No,AutoCalOnly,No,BSBUseWPX,No
Point01,xy, 0, 0,in, deg, 14, 56.68709250,N, 74, 0.234375,E, grid, , , ,N
Point02,xy, 6624, 5184,in, deg, 11, 28.80147891,N, 78, 33.13476562,E, grid, , , ,N
Point03,xy, 0, 5184,in, deg, 11, 28.80147891,N, 74, 0.234375,E, grid, , , ,N
Point04,xy, 6624, 0,in, deg, 14, 56.68709250,N, 78, 33.13476562,E, grid, , , ,N
Point05,xy, 3312, 2592,in, deg, 13, 13.11335695,N, 76, 16.68457031,E, grid, , , ,N
Point06,xy, 3312, 0,in, deg, 14, 56.68709250,N, 76, 16.68457031,E, grid, , , ,N
Point07,xy, 0, 2592,in, deg, 13, 13.11335695,N, 74, 0.234375,E, grid, , , ,N
Point08,xy, 6624, 2592,in, deg, 13, 13.11335695,N, 78, 33.13476562,E, grid, , , ,N
Point09,xy, 3312, 5184,in, deg, 11, 28.80147891,N, 76, 16.68457031,E, grid, , , ,N
Point10,xy, , ,in, deg, , ,N, , ,W, grid, , , ,N
Point11,xy, , ,in, deg, , ,N, , ,W, grid, , , ,N
Point12,xy, , ,in, deg, , ,N, , ,W, grid, , , ,N
Point13,xy, , ,in, deg, , ,N, , ,W, grid, , , ,N
Point14,xy, , ,in, deg, , ,N, , ,W, grid, , , ,N
Point15,xy, , ,in, deg, , ,N, , ,W, grid, , , ,N
Point16,xy, , ,in, deg, , ,N, , ,W, grid, , , ,N
Point17,xy, , ,in, deg, , ,N, , ,W, grid, , , ,N
Point18,xy, , ,in, deg, , ,N, , ,W, grid, , , ,N
Point19,xy, , ,in, deg, , ,N, , ,W, grid, , , ,N
Point20,xy, , ,in, deg, , ,N, , ,W, grid, , , ,N
Point21,xy, , ,in, deg, , ,N, , ,W, grid, , , ,N
Point22,xy, , ,in, deg, , ,N, , ,W, grid, , , ,N
Point23,xy, , ,in, deg, , ,N, , ,W, grid, , , ,N
Point24,xy, , ,in, deg, , ,N, , ,W, grid, , , ,N
Point25,xy, , ,in, deg, , ,N, , ,W, grid, , , ,N
Point26,xy, , ,in, deg, , ,N, , ,W, grid, , , ,N
Point27,xy, , ,in, deg, , ,N, , ,W, grid, , , ,N
Point28,xy, , ,in, deg, , ,N, , ,W, grid, , , ,N
Point29,xy, , ,in, deg, , ,N, , ,W, grid, , , ,N
Point30,xy, , ,in, deg, , ,N, , ,W, grid, , , ,N
Projection Setup,,,,,,,,,,
Map Feature = MF ; Map Comment = MC These follow if they exist
Track File = TF These follow if they exist
Moving Map Parameters = MM? These follow if they exist
MM0,Yes
MMPNUM,4
MMPXY,1,0,0
MMPXY,2,6624,0
MMPXY,3,6624,5184
MMPXY,4,0,5184
MMPLL,1, 74.00390625, 14.94478487
MMPLL,2, 78.55224609, 14.94478487
MMPLL,3, 78.55224609, 11.48002464
MMPLL,4, 74.00390625, 11.48002464
MM1B,74.41182139
MOP,Map Open Position,0,0
IWH,Map Image Width/Height,6624,5184
