OziExplorer Map Data File Version 2.2
kerala(5km).jpg
kerala(5km).ozfx3
1 ,Map Code,
WGS 84,, 0.0000, 0.0000,WGS 84
Reserved 1
Reserved 2
Magnetic Variation,,,E
Map Projection,Mercator,PolyCal,No,AutoCalOnly,No,BSBUseWPX,No
Point01,xy, 0, 0,in, deg, 12, 46.77965044,N, 74, 51.65039062,E, grid, , , ,N
Point02,xy, 3776, 6752,in, deg, 8, 13.34183198,N, 77, 27.21679687,E, grid, , , ,N
Point03,xy, 0, 6752,in, deg, 8, 13.34183198,N, 74, 51.65039062,E, grid, , , ,N
Point04,xy, 3776, 0,in, deg, 12, 46.77965044,N, 77, 27.21679687,E, grid, , , ,N
Point05,xy, 1888, 3376,in, deg, 10, 30.56500205,N, 76, 9.43359375,E, grid, , , ,N
Point06,xy, 1888, 0,in, deg, 12, 46.77965044,N, 76, 9.43359375,E, grid, , , ,N
Point07,xy, 0, 3376,in, deg, 10, 30.56500205,N, 74, 51.65039062,E, grid, , , ,N
Point08,xy, 3776, 3376,in, deg, 10, 30.56500205,N, 77, 27.21679687,E, grid, , , ,N
Point09,xy, 1888, 6752,in, deg, 8, 13.34183198,N, 76, 9.43359375,E, grid, , , ,N
Point10,xy, , ,in, deg, , ,N, , ,W, grid, , , ,N
Point11,xy, , ,in, deg, , ,N, , ,W, grid, , , ,N
Point12,xy, , ,in, deg, , ,N, , ,W, grid, , , ,N
Point13,xy, , ,in, deg, , ,N, , ,W, grid, , , ,N
Point14,xy, , ,in, deg, , ,N, , ,W, grid, , , ,N
Point15,xy, , ,in, deg, , ,N, , ,W, grid, , , ,N
Point16,xy, , ,in, deg, , ,N, , ,W, grid, , , ,N
Point17,xy, , ,in, deg, , ,N, , ,W, grid, , , ,N
Point18,xy, , ,in, deg, , ,N, , ,W, grid, , , ,N
Point19,xy, , ,in, deg, , ,N, , ,W, grid, , , ,N
Point20,xy, , ,in, deg, , ,N, , ,W, grid, , , ,N
Point21,xy, , ,in, deg, , ,N, , ,W, grid, , , ,N
Point22,xy, , ,in, deg, , ,N, , ,W, grid, , , ,N
Point23,xy, , ,in, deg, , ,N, , ,W, grid, , , ,N
Point24,xy, , ,in, deg, , ,N, , ,W, grid, , , ,N
Point25,xy, , ,in, deg, , ,N, , ,W, grid, , , ,N
Point26,xy, , ,in, deg, , ,N, , ,W, grid, , , ,N
Point27,xy, , ,in, deg, , ,N, , ,W, grid, , , ,N
Point28,xy, , ,in, deg, , ,N, , ,W, grid, , , ,N
Point29,xy, , ,in, deg, , ,N, , ,W, grid, , , ,N
Point30,xy, , ,in, deg, , ,N, , ,W, grid, , , ,N
Projection Setup,,,,,,,,,,
Map Feature = MF ; Map Comment = MC These follow if they exist
Track File = TF These follow if they exist
Moving Map Parameters = MM? These follow if they exist
MM0,Yes
MMPNUM,4
MMPXY,1,0,0
MMPXY,2,3776,0
MMPXY,3,3776,6752
MMPXY,4,0,6752
MMPLL,1, 74.86083984, 12.77966084
MMPLL,2, 77.45361328, 12.77966084
MMPLL,3, 77.45361328, 8.22236386
MMPLL,4, 74.86083984, 8.22236386
MM1B,75.15479281
MOP,Map Open Position,0,0
IWH,Map Image Width/Height,3776,6752
