OziExplorer Map Data File Version 2.2
maharashtrasouth(5km).jpg
maharashtrasouth(5km).ozfx3
1 ,Map Code,
WGS 84,, 0.0000, 0.0000,WGS 84
Reserved 1
Reserved 2
Magnetic Variation,,,E
Map Projection,Mercator,PolyCal,No,AutoCalOnly,No,BSBUseWPX,No
Point01,xy, 0, 0,in, deg, 19, 18.66860130,N, 72, 42.45117187,E, grid, , , ,N
Point02,xy, 8192, 5632,in, deg, 15, 37.38220989,N, 78, 19.95117187,E, grid, , , ,N
Point03,xy, 0, 5632,in, deg, 15, 37.38220989,N, 72, 42.45117187,E, grid, , , ,N
Point04,xy, 8192, 0,in, deg, 19, 18.66860130,N, 78, 19.95117187,E, grid, , , ,N
Point05,xy, 4096, 2816,in, deg, 17, 28.58593183,N, 75, 31.20117187,E, grid, , , ,N
Point06,xy, 4096, 0,in, deg, 19, 18.66860130,N, 75, 31.20117187,E, grid, , , ,N
Point07,xy, 0, 2816,in, deg, 17, 28.58593183,N, 72, 42.45117187,E, grid, , , ,N
Point08,xy, 8192, 2816,in, deg, 17, 28.58593183,N, 78, 19.95117187,E, grid, , , ,N
Point09,xy, 4096, 5632,in, deg, 15, 37.38220989,N, 75, 31.20117187,E, grid, , , ,N
Point10,xy, , ,in, deg, , ,N, , ,W, grid, , , ,N
Point11,xy, , ,in, deg, , ,N, , ,W, grid, , , ,N
Point12,xy, , ,in, deg, , ,N, , ,W, grid, , , ,N
Point13,xy, , ,in, deg, , ,N, , ,W, grid, , , ,N
Point14,xy, , ,in, deg, , ,N, , ,W, grid, , , ,N
Point15,xy, , ,in, deg, , ,N, , ,W, grid, , , ,N
Point16,xy, , ,in, deg, , ,N, , ,W, grid, , , ,N
Point17,xy, , ,in, deg, , ,N, , ,W, grid, , , ,N
Point18,xy, , ,in, deg, , ,N, , ,W, grid, , , ,N
Point19,xy, , ,in, deg, , ,N, , ,W, grid, , , ,N
Point20,xy, , ,in, deg, , ,N, , ,W, grid, , , ,N
Point21,xy, , ,in, deg, , ,N, , ,W, grid, , , ,N
Point22,xy, , ,in, deg, , ,N, , ,W, grid, , , ,N
Point23,xy, , ,in, deg, , ,N, , ,W, grid, , , ,N
Point24,xy, , ,in, deg, , ,N, , ,W, grid, , , ,N
Point25,xy, , ,in, deg, , ,N, , ,W, grid, , , ,N
Point26,xy, , ,in, deg, , ,N, , ,W, grid, , , ,N
Point27,xy, , ,in, deg, , ,N, , ,W, grid, , , ,N
Point28,xy, , ,in, deg, , ,N, , ,W, grid, , , ,N
Point29,xy, , ,in, deg, , ,N, , ,W, grid, , , ,N
Point30,xy, , ,in, deg, , ,N, , ,W, grid, , , ,N
Projection Setup,,,,,,,,,,
Map Feature = MF ; Map Comment = MC These follow if they exist
Track File = TF These follow if they exist
Moving Map Parameters = MM? These follow if they exist
MM0,Yes
MMPNUM,4
MMPXY,1,0,0
MMPXY,2,8192,0
MMPXY,3,8192,5632
MMPXY,4,0,5632
MMPLL,1, 72.70751953, 19.31114335
MMPLL,2, 78.33251953, 19.31114335
MMPLL,3, 78.33251953, 15.62303683
MMPLL,4, 72.70751953, 15.62303683
MM1B,72.90873794
MOP,Map Open Position,0,0
IWH,Map Image Width/Height,8192,5632
